Package: packFinder Version: 1.18.0 Command: /home/biocbuild/R/R/bin/R CMD INSTALL packFinder StartedAt: 2025-01-30 20:46:43 -0000 (Thu, 30 Jan 2025) EndedAt: 2025-01-30 20:46:46 -0000 (Thu, 30 Jan 2025) EllapsedTime: 3.1 seconds RetCode: 0 Status: OK