Package: pRolocGUI Version: 2.16.0 Command: /Library/Frameworks/R.framework/Resources/bin/R CMD check --install=check:pRolocGUI.install-out.txt --library=/Library/Frameworks/R.framework/Resources/library --no-vignettes --timings pRolocGUI_2.16.0.tar.gz StartedAt: 2025-01-31 08:19:12 -0500 (Fri, 31 Jan 2025) EndedAt: 2025-01-31 08:31:16 -0500 (Fri, 31 Jan 2025) EllapsedTime: 724.0 seconds RetCode: 0 Status: OK CheckDir: pRolocGUI.Rcheck Warnings: 0