Package: pRolocGUI Version: 2.16.0 Command: /Library/Frameworks/R.framework/Resources/bin/R CMD build --keep-empty-dirs --no-resave-data pRolocGUI StartedAt: 2025-01-30 21:57:47 -0500 (Thu, 30 Jan 2025) EndedAt: 2025-01-30 22:00:13 -0500 (Thu, 30 Jan 2025) EllapsedTime: 145.9 seconds RetCode: 0 Status: OK PackageFile: pRolocGUI_2.16.0.tar.gz PackageFileSize: 2.991 MiB