Package: pRolocGUI Version: 2.18.0 Command: /home/biocbuild/R/R/bin/R CMD INSTALL pRolocGUI StartedAt: 2025-05-08 21:02:37 -0000 (Thu, 08 May 2025) EndedAt: 2025-05-08 21:03:49 -0000 (Thu, 08 May 2025) EllapsedTime: 71.8 seconds RetCode: 0 Status: OK