Package: pRolocGUI Version: 2.18.0 Command: /Library/Frameworks/R.framework/Resources/bin/R CMD INSTALL pRolocGUI StartedAt: 2025-04-21 15:22:18 -0400 (Mon, 21 Apr 2025) EndedAt: 2025-04-21 15:22:39 -0400 (Mon, 21 Apr 2025) EllapsedTime: 21.7 seconds RetCode: 0 Status: OK