Package: pRoloc Version: 1.48.0 Command: chmod a+r pRoloc -R && E:\biocbuild\bbs-3.21-bioc\R\bin\R.exe CMD build --keep-empty-dirs --no-resave-data pRoloc StartedAt: 2025-08-14 21:26:04 -0400 (Thu, 14 Aug 2025) EndedAt: 2025-08-14 21:34:58 -0400 (Thu, 14 Aug 2025) EllapsedTime: 534.3 seconds RetCode: 0 Status: OK PackageFile: pRoloc_1.48.0.tar.gz PackageFileSize: 6.741 MiB