Package: pRoloc Version: 1.48.0 Command: rm -rf pRoloc.buildbin-libdir && mkdir pRoloc.buildbin-libdir && E:\biocbuild\bbs-3.21-bioc\R\bin\R.exe CMD INSTALL --build --library=pRoloc.buildbin-libdir pRoloc_1.48.0.tar.gz StartedAt: 2025-08-15 09:59:10 -0400 (Fri, 15 Aug 2025) EndedAt: 2025-08-15 10:01:40 -0400 (Fri, 15 Aug 2025) EllapsedTime: 150.1 seconds RetCode: 0 Status: OK PackageFile: pRoloc_1.48.0.zip PackageFileSize: 6.359 MiB