Package: orthos Version: 1.4.0 Command: /home/biocbuild/R/R/bin/R CMD INSTALL orthos StartedAt: 2025-01-30 21:05:00 -0000 (Thu, 30 Jan 2025) EndedAt: 2025-01-30 21:05:29 -0000 (Thu, 30 Jan 2025) EllapsedTime: 28.2 seconds RetCode: 0 Status: OK