Package: orthos Version: 1.4.0 Command: /home/biocbuild/R/R/bin/R CMD build --keep-empty-dirs --no-resave-data orthos StartedAt: 2025-01-31 01:35:13 -0000 (Fri, 31 Jan 2025) EndedAt: 2025-01-31 01:38:55 -0000 (Fri, 31 Jan 2025) EllapsedTime: 221.4 seconds RetCode: 1 Status: ERROR PackageFile: None PackageFileSize: NA