Package: oppar Version: 1.36.0 Command: /Library/Frameworks/R.framework/Resources/bin/R CMD INSTALL oppar StartedAt: 2025-05-01 16:38:39 -0400 (Thu, 01 May 2025) EndedAt: 2025-05-01 16:39:58 -0400 (Thu, 01 May 2025) EllapsedTime: 78.3 seconds RetCode: 0 Status: OK