Package: oppar Version: 1.36.0 Command: /Library/Frameworks/R.framework/Resources/bin/R CMD INSTALL oppar StartedAt: 2025-04-21 15:45:07 -0400 (Mon, 21 Apr 2025) EndedAt: 2025-04-21 15:45:59 -0400 (Mon, 21 Apr 2025) EllapsedTime: 51.4 seconds RetCode: 0 Status: OK