Package: oppar Version: 1.36.0 Command: /Library/Frameworks/R.framework/Resources/bin/R CMD check --install=check:oppar.install-out.txt --library=/Library/Frameworks/R.framework/Resources/library --no-vignettes --timings oppar_1.36.0.tar.gz StartedAt: 2025-04-21 20:44:57 -0400 (Mon, 21 Apr 2025) EndedAt: 2025-04-21 20:46:53 -0400 (Mon, 21 Apr 2025) EllapsedTime: 116.4 seconds RetCode: 0 Status: WARNINGS CheckDir: oppar.Rcheck Warnings: 2