Package: oppar Version: 1.36.0 Command: rm -rf oppar.buildbin-libdir && mkdir oppar.buildbin-libdir && /Users/biocbuild/BBS/utils/build-universal.sh oppar_1.36.0.tar.gz /Library/Frameworks/R.framework/Resources/bin/R oppar.buildbin-libdir StartedAt: 2025-04-21 22:45:27 -0400 (Mon, 21 Apr 2025) EndedAt: 2025-04-21 22:45:44 -0400 (Mon, 21 Apr 2025) EllapsedTime: 17.4 seconds RetCode: 0 Status: OK PackageFile: oppar_1.36.0.tgz PackageFileSize: 5.263 MiB