Package: oppar Version: 1.36.0 Command: /Library/Frameworks/R.framework/Resources/bin/R CMD INSTALL oppar StartedAt: 2025-05-05 18:08:50 -0400 (Mon, 05 May 2025) EndedAt: 2025-05-05 18:09:35 -0400 (Mon, 05 May 2025) EllapsedTime: 45.0 seconds RetCode: 0 Status: OK