Package: oppar Version: 1.36.0 Command: /Library/Frameworks/R.framework/Resources/bin/R CMD check --install=check:oppar.install-out.txt --library=/Library/Frameworks/R.framework/Resources/library --no-vignettes --timings oppar_1.36.0.tar.gz StartedAt: 2025-05-07 04:18:36 -0400 (Wed, 07 May 2025) EndedAt: 2025-05-07 04:23:55 -0400 (Wed, 07 May 2025) EllapsedTime: 318.4 seconds RetCode: 0 Status: WARNINGS CheckDir: oppar.Rcheck Warnings: 2