Package: openPrimeR Version: 1.28.0 Command: /home/biocbuild/R/R/bin/R CMD check --install=check:openPrimeR.install-out.txt --library=/home/biocbuild/R/R/site-library --no-vignettes --timings openPrimeR_1.28.0.tar.gz StartedAt: 2025-01-31 08:51:20 -0000 (Fri, 31 Jan 2025) EndedAt: 2025-01-31 08:56:10 -0000 (Fri, 31 Jan 2025) EllapsedTime: 290.4 seconds RetCode: 0 Status: OK CheckDir: openPrimeR.Rcheck Warnings: 0