Package: openCyto Version: 2.20.1 Command: rm -rf openCyto.buildbin-libdir && mkdir openCyto.buildbin-libdir && /Users/biocbuild/BBS/utils/build-universal.sh openCyto_2.20.1.tar.gz /Library/Frameworks/R.framework/Resources/bin/R openCyto.buildbin-libdir StartedAt: 2025-10-10 14:18:49 -0400 (Fri, 10 Oct 2025) EndedAt: 2025-10-10 14:20:22 -0400 (Fri, 10 Oct 2025) EllapsedTime: 93.3 seconds RetCode: 0 Status: OK PackageFile: openCyto_2.20.1.tgz PackageFileSize: 2.73 MiB