Package: onlineFDR Version: 2.14.0 Command: /home/biocbuild/R/R/bin/R CMD INSTALL onlineFDR StartedAt: 2025-02-10 20:11:02 -0000 (Mon, 10 Feb 2025) EndedAt: 2025-02-10 20:12:15 -0000 (Mon, 10 Feb 2025) EllapsedTime: 72.5 seconds RetCode: 0 Status: OK