Package: oncoscanR Version: 1.8.0 Command: rm -rf oncoscanR.buildbin-libdir && mkdir oncoscanR.buildbin-libdir && F:\biocbuild\bbs-3.20-bioc\R\bin\R.exe CMD INSTALL --build --library=oncoscanR.buildbin-libdir oncoscanR_1.8.0.tar.gz StartedAt: 2025-01-31 09:13:06 -0500 (Fri, 31 Jan 2025) EndedAt: 2025-01-31 09:13:36 -0500 (Fri, 31 Jan 2025) EllapsedTime: 30.8 seconds RetCode: 0 Status: OK PackageFile: oncoscanR_1.8.0.zip PackageFileSize: 1.045 MiB