Package: oncoscanR Version: 1.8.0 Command: /home/biocbuild/bbs-3.20-bioc/R/bin/R CMD check --install=check:oncoscanR.install-out.txt --library=/home/biocbuild/bbs-3.20-bioc/R/site-library --timings oncoscanR_1.8.0.tar.gz StartedAt: 2025-01-31 00:41:49 -0500 (Fri, 31 Jan 2025) EndedAt: 2025-01-31 00:51:01 -0500 (Fri, 31 Jan 2025) EllapsedTime: 551.7 seconds RetCode: 0 Status: OK CheckDir: oncoscanR.Rcheck Warnings: 0