Package: oncoscanR Version: 1.8.0 Command: /Library/Frameworks/R.framework/Resources/bin/R CMD INSTALL oncoscanR StartedAt: 2025-02-03 15:21:11 -0500 (Mon, 03 Feb 2025) EndedAt: 2025-02-03 15:21:38 -0500 (Mon, 03 Feb 2025) EllapsedTime: 26.4 seconds RetCode: 0 Status: OK