Package: oncoscanR Version: 1.8.0 Command: /Library/Frameworks/R.framework/Resources/bin/R CMD build --keep-empty-dirs --no-resave-data oncoscanR StartedAt: 2025-02-03 20:59:41 -0500 (Mon, 03 Feb 2025) EndedAt: 2025-02-03 21:07:08 -0500 (Mon, 03 Feb 2025) EllapsedTime: 446.6 seconds RetCode: 0 Status: OK PackageFile: oncoscanR_1.8.0.tar.gz PackageFileSize: 990.7 KiB