Package: oncoscanR Version: 1.8.0 Command: rm -rf oncoscanR.buildbin-libdir && mkdir oncoscanR.buildbin-libdir && /Users/biocbuild/BBS/utils/build-universal.sh oncoscanR_1.8.0.tar.gz /Library/Frameworks/R.framework/Resources/bin/R oncoscanR.buildbin-libdir StartedAt: 2025-02-05 17:01:16 -0500 (Wed, 05 Feb 2025) EndedAt: 2025-02-05 17:01:32 -0500 (Wed, 05 Feb 2025) EllapsedTime: 16.0 seconds RetCode: 0 Status: OK PackageFile: oncoscanR_1.8.0.tgz PackageFileSize: 1.045 MiB