Package: oncomix Version: 1.28.0 Command: /home/biocbuild/R/R/bin/R CMD build --keep-empty-dirs --no-resave-data oncomix StartedAt: 2025-02-04 01:34:36 -0000 (Tue, 04 Feb 2025) EndedAt: 2025-02-04 01:35:58 -0000 (Tue, 04 Feb 2025) EllapsedTime: 82.2 seconds RetCode: 0 Status: OK PackageFile: oncomix_1.28.0.tar.gz PackageFileSize: 1.884 MiB