Package: ompBAM Version: 1.10.0 Command: /home/biocbuild/R/R/bin/R CMD build --keep-empty-dirs --no-resave-data ompBAM StartedAt: 2025-01-31 01:30:13 -0000 (Fri, 31 Jan 2025) EndedAt: 2025-01-31 01:30:40 -0000 (Fri, 31 Jan 2025) EllapsedTime: 27.0 seconds RetCode: 0 Status: OK PackageFile: ompBAM_1.10.0.tar.gz PackageFileSize: 3.208 MiB