Package: omicsViewer Version: 1.14.0 Command: /home/biocbuild/R/R/bin/R CMD INSTALL omicsViewer StartedAt: 2025-11-24 21:31:59 -0000 (Mon, 24 Nov 2025) EndedAt: 2025-11-24 21:32:45 -0000 (Mon, 24 Nov 2025) EllapsedTime: 46.9 seconds RetCode: 0 Status: OK