Package: omicsViewer Version: 1.14.0 Command: /home/biocbuild/R/R/bin/R CMD build --keep-empty-dirs --no-resave-data omicsViewer StartedAt: 2025-11-25 03:43:13 -0000 (Tue, 25 Nov 2025) EndedAt: 2025-11-25 03:45:02 -0000 (Tue, 25 Nov 2025) EllapsedTime: 109.0 seconds RetCode: 0 Status: OK PackageFile: omicsViewer_1.14.0.tar.gz PackageFileSize: 4.393 MiB