Package: omicsPrint Version: 1.26.0 Command: /home/biocbuild/R/R/bin/R CMD build --keep-empty-dirs --no-resave-data omicsPrint StartedAt: 2025-02-04 01:32:12 -0000 (Tue, 04 Feb 2025) EndedAt: 2025-02-04 01:38:20 -0000 (Tue, 04 Feb 2025) EllapsedTime: 367.6 seconds RetCode: 0 Status: OK PackageFile: omicsPrint_1.26.0.tar.gz PackageFileSize: 4.193 MiB