Package: omicsGMF Version: 1.0.0 Command: /home/biocbuild/bbs-3.22-bioc/R/bin/R CMD INSTALL omicsGMF StartedAt: 2025-11-02 16:10:48 -0500 (Sun, 02 Nov 2025) EndedAt: 2025-11-02 16:11:26 -0500 (Sun, 02 Nov 2025) EllapsedTime: 38.3 seconds RetCode: 0 Status: OK