############################################################################## ############################################################################## ### ### Running command: ### ### rm -rf omicplotR.buildbin-libdir && mkdir omicplotR.buildbin-libdir && /Users/biocbuild/BBS/utils/build-universal.sh omicplotR_1.28.0.tar.gz /Library/Frameworks/R.framework/Resources/bin/R omicplotR.buildbin-libdir ### ############################################################################## ############################################################################## >>>>>>> >>>>>>> INSTALLATION WITH 'R CMD INSTALL --preclean --no-multiarch --library=omicplotR.buildbin-libdir omicplotR_1.28.0.tar.gz' >>>>>>> * installing *source* package ‘omicplotR’ ... ** this is package ‘omicplotR’ version ‘1.28.0’ ** using staged installation ** R ** data *** moving datasets to lazyload DB ** inst ** byte-compile and prepare package for lazy loading ** help *** installing help indices ** building package indices ** installing vignettes ** testing if installed package can be loaded from temporary location ** testing if installed package can be loaded from final location ** testing if installed package keeps a record of temporary installation path * DONE (omicplotR) chown: omicplotR.buildbin-libdir/omicplotR/LICENSE: Operation not permitted chown: omicplotR.buildbin-libdir/omicplotR/R/omicplotR: Operation not permitted chown: omicplotR.buildbin-libdir/omicplotR/R/omicplotR.rdb: Operation not permitted chown: omicplotR.buildbin-libdir/omicplotR/R/omicplotR.rdx: Operation not permitted chown: omicplotR.buildbin-libdir/omicplotR/R: Operation not permitted chown: omicplotR.buildbin-libdir/omicplotR/Meta/vignette.rds: Operation not permitted chown: omicplotR.buildbin-libdir/omicplotR/Meta/data.rds: Operation not permitted chown: omicplotR.buildbin-libdir/omicplotR/Meta/links.rds: Operation not permitted chown: omicplotR.buildbin-libdir/omicplotR/Meta/features.rds: Operation not permitted chown: omicplotR.buildbin-libdir/omicplotR/Meta/nsInfo.rds: Operation not permitted chown: omicplotR.buildbin-libdir/omicplotR/Meta/package.rds: Operation not permitted chown: omicplotR.buildbin-libdir/omicplotR/Meta/hsearch.rds: Operation not permitted chown: omicplotR.buildbin-libdir/omicplotR/Meta/Rd.rds: Operation not permitted chown: omicplotR.buildbin-libdir/omicplotR/Meta: Operation not permitted chown: omicplotR.buildbin-libdir/omicplotR/NAMESPACE: Operation not permitted chown: omicplotR.buildbin-libdir/omicplotR/html/R.css: Operation not permitted chown: omicplotR.buildbin-libdir/omicplotR/html/00Index.html: Operation not permitted chown: omicplotR.buildbin-libdir/omicplotR/html: Operation not permitted chown: omicplotR.buildbin-libdir/omicplotR/DESCRIPTION: Operation not permitted chown: omicplotR.buildbin-libdir/omicplotR/NEWS: Operation not permitted chown: omicplotR.buildbin-libdir/omicplotR/shiny-app/ui.r: Operation not permitted chown: omicplotR.buildbin-libdir/omicplotR/shiny-app/effect_script.R: Operation not permitted chown: omicplotR.buildbin-libdir/omicplotR/shiny-app/www/example_data.png: Operation not permitted chown: omicplotR.buildbin-libdir/omicplotR/shiny-app/www/bootstrap.css: Operation not permitted chown: omicplotR.buildbin-libdir/omicplotR/shiny-app/www/histogram_colored.png: Operation not permitted chown: omicplotR.buildbin-libdir/omicplotR/shiny-app/www/colored_biplot.png: Operation not permitted chown: omicplotR.buildbin-libdir/omicplotR/shiny-app/www/metadata_filter.png: Operation not permitted chown: omicplotR.buildbin-libdir/omicplotR/shiny-app/www/example_metadata.png: Operation not permitted chown: omicplotR.buildbin-libdir/omicplotR/shiny-app/www: Operation not permitted chown: omicplotR.buildbin-libdir/omicplotR/shiny-app/example_data.txt: Operation not permitted chown: omicplotR.buildbin-libdir/omicplotR/shiny-app/help.Rmd: Operation not permitted chown: omicplotR.buildbin-libdir/omicplotR/shiny-app/PCA_script.R: Operation not permitted chown: omicplotR.buildbin-libdir/omicplotR/shiny-app/extrainformation.Rmd: Operation not permitted chown: omicplotR.buildbin-libdir/omicplotR/shiny-app/selex.txt: Operation not permitted chown: omicplotR.buildbin-libdir/omicplotR/shiny-app/rab_script.R: Operation not permitted chown: omicplotR.buildbin-libdir/omicplotR/shiny-app/example_metadata.txt: Operation not permitted chown: omicplotR.buildbin-libdir/omicplotR/shiny-app/server.r: Operation not permitted chown: omicplotR.buildbin-libdir/omicplotR/shiny-app: Operation not permitted chown: omicplotR.buildbin-libdir/omicplotR/INDEX: Operation not permitted chown: omicplotR.buildbin-libdir/omicplotR/doc/index.html: Operation not permitted chown: omicplotR.buildbin-libdir/omicplotR/doc/omicplotR.html: Operation not permitted chown: omicplotR.buildbin-libdir/omicplotR/doc/omicplotR.R: Operation not permitted chown: omicplotR.buildbin-libdir/omicplotR/doc/omicplotR.Rmd: Operation not permitted chown: omicplotR.buildbin-libdir/omicplotR/doc: Operation not permitted chown: omicplotR.buildbin-libdir/omicplotR/data/Rdata.rds: Operation not permitted chown: omicplotR.buildbin-libdir/omicplotR/data/Rdata.rdx: Operation not permitted chown: omicplotR.buildbin-libdir/omicplotR/data/Rdata.rdb: Operation not permitted chown: omicplotR.buildbin-libdir/omicplotR/data: Operation not permitted chown: omicplotR.buildbin-libdir/omicplotR/help/AnIndex: Operation not permitted chown: omicplotR.buildbin-libdir/omicplotR/help/aliases.rds: Operation not permitted chown: omicplotR.buildbin-libdir/omicplotR/help/omicplotR.rdb: Operation not permitted chown: omicplotR.buildbin-libdir/omicplotR/help/omicplotR.rdx: Operation not permitted chown: omicplotR.buildbin-libdir/omicplotR/help/paths.rds: Operation not permitted chown: omicplotR.buildbin-libdir/omicplotR/help: Operation not permitted chown: omicplotR.buildbin-libdir/omicplotR: Operation not permitted