Package: omicRexposome Version: 1.28.0 Command: /home/biocbuild/R/R/bin/R CMD build --keep-empty-dirs --no-resave-data omicRexposome StartedAt: 2025-02-04 01:31:39 -0000 (Tue, 04 Feb 2025) EndedAt: 2025-02-04 01:45:42 -0000 (Tue, 04 Feb 2025) EllapsedTime: 843.4 seconds RetCode: 0 Status: OK PackageFile: omicRexposome_1.28.0.tar.gz PackageFileSize: 1.934 MiB