Package: omXplore Version: 1.2.0 Command: /home/biocbuild/R/R/bin/R CMD check --install=check:omXplore.install-out.txt --library=/home/biocbuild/R/R/site-library --no-vignettes --timings omXplore_1.2.0.tar.gz StartedAt: 2025-05-09 11:49:01 -0000 (Fri, 09 May 2025) EndedAt: 2025-05-09 11:57:17 -0000 (Fri, 09 May 2025) EllapsedTime: 495.7 seconds RetCode: 0 Status: WARNINGS CheckDir: omXplore.Rcheck Warnings: 1