Package: oligo Version: 1.70.0 Command: F:\biocbuild\bbs-3.20-bioc\R\bin\R.exe CMD check --no-multiarch --install=check:oligo.install-out.txt --library=F:\biocbuild\bbs-3.20-bioc\R\library --no-vignettes --timings oligo_1.70.0.tar.gz StartedAt: 2025-01-31 04:40:22 -0500 (Fri, 31 Jan 2025) EndedAt: 2025-01-31 04:47:01 -0500 (Fri, 31 Jan 2025) EllapsedTime: 398.3 seconds RetCode: 0 Status: WARNINGS CheckDir: oligo.Rcheck Warnings: 4