Package: oligo Version: 1.70.0 Command: rm -rf oligo.buildbin-libdir && mkdir oligo.buildbin-libdir && F:\biocbuild\bbs-3.20-bioc\R\bin\R.exe CMD INSTALL --build --library=oligo.buildbin-libdir oligo_1.70.0.tar.gz StartedAt: 2025-01-31 09:12:08 -0500 (Fri, 31 Jan 2025) EndedAt: 2025-01-31 09:14:18 -0500 (Fri, 31 Jan 2025) EllapsedTime: 130.8 seconds RetCode: 0 Status: OK PackageFile: oligo_1.70.0.zip PackageFileSize: 27.84 MiB