Package: oligo Version: 1.72.0 Command: rm -rf oligo.buildbin-libdir && mkdir oligo.buildbin-libdir && /Users/biocbuild/BBS/utils/build-universal.sh oligo_1.72.0.tar.gz /Library/Frameworks/R.framework/Resources/bin/R oligo.buildbin-libdir StartedAt: 2025-04-22 00:58:36 -0400 (Tue, 22 Apr 2025) EndedAt: 2025-04-22 00:59:38 -0400 (Tue, 22 Apr 2025) EllapsedTime: 61.4 seconds RetCode: 0 Status: OK PackageFile: oligo_1.72.0.tgz PackageFileSize: 27.83 MiB