############################################################################## ############################################################################## ### ### Running command: ### ### rm -rf oligo.buildbin-libdir && mkdir oligo.buildbin-libdir && /Users/biocbuild/BBS/utils/build-universal.sh oligo_1.72.0.tar.gz /Library/Frameworks/R.framework/Resources/bin/R oligo.buildbin-libdir ### ############################################################################## ############################################################################## >>>>>>> >>>>>>> INSTALLATION WITH 'R CMD INSTALL --preclean --no-multiarch --library=oligo.buildbin-libdir oligo_1.72.0.tar.gz' >>>>>>> * installing *source* package ‘oligo’ ... ** this is package ‘oligo’ version ‘1.72.0’ ** using staged installation creating cache ./config.cache checking how to run the C preprocessor... clang -arch arm64 -E checking for main in -lz... yes checking for zlib.h... yes checking if zlib version >= 1.1.3... yes updating cache ./config.cache creating ./config.status creating src/Makevars ** libs using C compiler: ‘Apple clang version 15.0.0 (clang-1500.1.0.2.5)’ using SDK: ‘MacOSX11.3.sdk’ clang -arch arm64 -I"/Library/Frameworks/R.framework/Resources/include" -DNDEBUG -DHAVE_ZLIB=1 -I'/Library/Frameworks/R.framework/Versions/4.5-arm64/Resources/library/preprocessCore/include' -I/opt/R/arm64/include -falign-functions=64 -Wall -g -O2 -fPIC -falign-functions=64 -Wall -g -O2 -c DABG.c -o DABG.o clang -arch arm64 -I"/Library/Frameworks/R.framework/Resources/include" -DNDEBUG -DHAVE_ZLIB=1 -I'/Library/Frameworks/R.framework/Versions/4.5-arm64/Resources/library/preprocessCore/include' -I/opt/R/arm64/include -falign-functions=64 -Wall -g -O2 -fPIC -falign-functions=64 -Wall -g -O2 -c ParserGzXYS.c -o ParserGzXYS.o clang -arch arm64 -I"/Library/Frameworks/R.framework/Resources/include" -DNDEBUG -DHAVE_ZLIB=1 -I'/Library/Frameworks/R.framework/Versions/4.5-arm64/Resources/library/preprocessCore/include' -I/opt/R/arm64/include -falign-functions=64 -Wall -g -O2 -fPIC -falign-functions=64 -Wall -g -O2 -c ParserXYS.c -o ParserXYS.o clang -arch arm64 -I"/Library/Frameworks/R.framework/Resources/include" -DNDEBUG -DHAVE_ZLIB=1 -I'/Library/Frameworks/R.framework/Versions/4.5-arm64/Resources/library/preprocessCore/include' -I/opt/R/arm64/include -falign-functions=64 -Wall -g -O2 -fPIC -falign-functions=64 -Wall -g -O2 -c baseProfile.c -o baseProfile.o clang -arch arm64 -I"/Library/Frameworks/R.framework/Resources/include" -DNDEBUG -DHAVE_ZLIB=1 -I'/Library/Frameworks/R.framework/Versions/4.5-arm64/Resources/library/preprocessCore/include' -I/opt/R/arm64/include -falign-functions=64 -Wall -g -O2 -fPIC -falign-functions=64 -Wall -g -O2 -c basecontent.c -o basecontent.o clang -arch arm64 -I"/Library/Frameworks/R.framework/Resources/include" -DNDEBUG -DHAVE_ZLIB=1 -I'/Library/Frameworks/R.framework/Versions/4.5-arm64/Resources/library/preprocessCore/include' -I/opt/R/arm64/include -falign-functions=64 -Wall -g -O2 -fPIC -falign-functions=64 -Wall -g -O2 -c chipbackground.c -o chipbackground.o clang -arch arm64 -I"/Library/Frameworks/R.framework/Resources/include" -DNDEBUG -DHAVE_ZLIB=1 -I'/Library/Frameworks/R.framework/Versions/4.5-arm64/Resources/library/preprocessCore/include' -I/opt/R/arm64/include -falign-functions=64 -Wall -g -O2 -fPIC -falign-functions=64 -Wall -g -O2 -c mas5calls.c -o mas5calls.o clang -arch arm64 -I"/Library/Frameworks/R.framework/Resources/include" -DNDEBUG -DHAVE_ZLIB=1 -I'/Library/Frameworks/R.framework/Versions/4.5-arm64/Resources/library/preprocessCore/include' -I/opt/R/arm64/include -falign-functions=64 -Wall -g -O2 -fPIC -falign-functions=64 -Wall -g -O2 -c rma2.c -o rma2.o clang -arch arm64 -I"/Library/Frameworks/R.framework/Resources/include" -DNDEBUG -DHAVE_ZLIB=1 -I'/Library/Frameworks/R.framework/Versions/4.5-arm64/Resources/library/preprocessCore/include' -I/opt/R/arm64/include -falign-functions=64 -Wall -g -O2 -fPIC -falign-functions=64 -Wall -g -O2 -c rma_common.c -o rma_common.o clang -arch arm64 -I"/Library/Frameworks/R.framework/Resources/include" -DNDEBUG -DHAVE_ZLIB=1 -I'/Library/Frameworks/R.framework/Versions/4.5-arm64/Resources/library/preprocessCore/include' -I/opt/R/arm64/include -falign-functions=64 -Wall -g -O2 -fPIC -falign-functions=64 -Wall -g -O2 -c trimmed.c -o trimmed.o trimmed.c:49:13: warning: variable 'n1' set but not used [-Wunused-but-set-variable] int i, j, n1, n2, n3; ^ trimmed.c:49:17: warning: variable 'n2' set but not used [-Wunused-but-set-variable] int i, j, n1, n2, n3; ^ trimmed.c:49:21: warning: variable 'n3' set but not used [-Wunused-but-set-variable] int i, j, n1, n2, n3; ^ 3 warnings generated. clang -arch arm64 -dynamiclib -Wl,-headerpad_max_install_names -undefined dynamic_lookup -L/Library/Frameworks/R.framework/Resources/lib -L/opt/R/arm64/lib -o oligo.so DABG.o ParserGzXYS.o ParserXYS.o baseProfile.o basecontent.o chipbackground.o mas5calls.o rma2.o rma_common.o trimmed.o -lz -F/Library/Frameworks/R.framework/.. -framework R installing to /Users/biocbuild/bbs-3.21-bioc/meat/oligo.buildbin-libdir/00LOCK-oligo/00new/oligo/libs ** R ** inst ** byte-compile and prepare package for lazy loading Note: in method for ‘pm<-’ with signature ‘object="TilingFeatureSet",subset="ANY",target="ANY",value="array"’: expanding the signature to include omitted arguments in definition: subset = "missing", target = "missing" Note: in method for ‘mm<-’ with signature ‘object="TilingFeatureSet",subset="ANY",target="ANY",value="array"’: expanding the signature to include omitted arguments in definition: subset = "missing", target = "missing" ** help *** installing help indices ** building package indices ** installing vignettes ** testing if installed package can be loaded from temporary location ** checking absolute paths in shared objects and dynamic libraries ** testing if installed package can be loaded from final location ** testing if installed package keeps a record of temporary installation path * DONE (oligo) >>>>>>> >>>>>>> FIXING PATHS TO DYNAMIC LIBRARIES FOR oligo.buildbin-libdir/oligo/libs/oligo.so >>>>>>> >>>>>>> Paths before fix: oligo.buildbin-libdir/oligo/libs/oligo.so: oligo.so (compatibility version 0.0.0, current version 0.0.0) /usr/lib/libz.1.dylib (compatibility version 1.0.0, current version 1.2.11) /Library/Frameworks/R.framework/Versions/4.5-arm64/Resources/lib/libR.dylib (compatibility version 4.5.0, current version 4.5.0) /usr/lib/libSystem.B.dylib (compatibility version 1.0.0, current version 1292.100.5) >>>>>>> Fix with install_name_tool: install_name_tool -change "/usr/local/lib/libgcc_s.1.1.dylib" "/Library/Frameworks/R.framework/Versions/4.5-arm64/Resources/lib/libgcc_s.1.1.dylib" "oligo.buildbin-libdir/oligo/libs/oligo.so" install_name_tool -change "/usr/local/lib/libgfortran.5.dylib" "/Library/Frameworks/R.framework/Versions/4.5-arm64/Resources/lib/libgfortran.5.dylib" "oligo.buildbin-libdir/oligo/libs/oligo.so" install_name_tool -change "/usr/local/lib/libquadmath.0.dylib" "/Library/Frameworks/R.framework/Versions/4.5-arm64/Resources/lib/libquadmath.0.dylib" "oligo.buildbin-libdir/oligo/libs/oligo.so" >>>>>>> Paths after fix: oligo.buildbin-libdir/oligo/libs/oligo.so: oligo.so (compatibility version 0.0.0, current version 0.0.0) /usr/lib/libz.1.dylib (compatibility version 1.0.0, current version 1.2.11) /Library/Frameworks/R.framework/Versions/4.5-arm64/Resources/lib/libR.dylib (compatibility version 4.5.0, current version 4.5.0) /usr/lib/libSystem.B.dylib (compatibility version 1.0.0, current version 1292.100.5)