Package: octad Version: 1.10.0 Command: /Library/Frameworks/R.framework/Resources/bin/R CMD check --install=check:octad.install-out.txt --library=/Library/Frameworks/R.framework/Resources/library --no-vignettes --timings octad_1.10.0.tar.gz StartedAt: 2025-05-02 07:04:19 -0400 (Fri, 02 May 2025) EndedAt: 2025-05-02 07:18:22 -0400 (Fri, 02 May 2025) EllapsedTime: 843.0 seconds RetCode: 1 Status: ERROR CheckDir: octad.Rcheck Warnings: NA