Package: octad Version: 1.10.0 Command: /home/biocbuild/R/R/bin/R CMD check --install=check:octad.install-out.txt --library=/home/biocbuild/R/R/site-library --no-vignettes --timings octad_1.10.0.tar.gz StartedAt: 2025-05-06 11:33:51 -0000 (Tue, 06 May 2025) EndedAt: 2025-05-06 11:44:17 -0000 (Tue, 06 May 2025) EllapsedTime: 625.9 seconds RetCode: 1 Status: ERROR CheckDir: octad.Rcheck Warnings: NA