Package: nucleoSim Version: 1.36.0 Command: /Library/Frameworks/R.framework/Resources/bin/R CMD check --install=check:nucleoSim.install-out.txt --library=/Library/Frameworks/R.framework/Resources/library --no-vignettes --timings nucleoSim_1.36.0.tar.gz StartedAt: 2025-04-21 20:41:28 -0400 (Mon, 21 Apr 2025) EndedAt: 2025-04-21 20:41:51 -0400 (Mon, 21 Apr 2025) EllapsedTime: 23.3 seconds RetCode: 0 Status: OK CheckDir: nucleoSim.Rcheck Warnings: 0