Package: nucleoSim Version: 1.36.0 Command: /Library/Frameworks/R.framework/Resources/bin/R CMD build --keep-empty-dirs --no-resave-data nucleoSim StartedAt: 2025-04-21 17:09:35 -0400 (Mon, 21 Apr 2025) EndedAt: 2025-04-21 17:09:41 -0400 (Mon, 21 Apr 2025) EllapsedTime: 6.1 seconds RetCode: 0 Status: OK PackageFile: nucleoSim_1.36.0.tar.gz PackageFileSize: 463.6 KiB