Package: nucleR Version: 2.40.0 Command: rm -rf nucleR.buildbin-libdir && mkdir nucleR.buildbin-libdir && E:\biocbuild\bbs-3.21-bioc\R\bin\R.exe CMD INSTALL --build --library=nucleR.buildbin-libdir nucleR_2.40.0.tar.gz StartedAt: 2025-08-15 09:51:28 -0400 (Fri, 15 Aug 2025) EndedAt: 2025-08-15 09:52:18 -0400 (Fri, 15 Aug 2025) EllapsedTime: 49.4 seconds RetCode: 0 Status: OK PackageFile: nucleR_2.40.0.zip PackageFileSize: 1.288 MiB