Package: notameViz Version: 1.0.0 Command: /home/biocbuild/bbs-3.22-bioc/R/bin/R CMD INSTALL notameViz StartedAt: 2025-11-20 16:15:31 -0500 (Thu, 20 Nov 2025) EndedAt: 2025-11-20 16:15:57 -0500 (Thu, 20 Nov 2025) EllapsedTime: 26.8 seconds RetCode: 0 Status: OK