Package: notameViz Version: 1.0.0 Command: /home/biocbuild/bbs-3.22-bioc/R/bin/R CMD build --keep-empty-dirs --no-resave-data --md5 notameViz StartedAt: 2025-11-20 19:52:30 -0500 (Thu, 20 Nov 2025) EndedAt: 2025-11-20 19:53:12 -0500 (Thu, 20 Nov 2025) EllapsedTime: 42.0 seconds RetCode: 0 Status: OK PackageFile: notameViz_1.0.0.tar.gz PackageFileSize: 466.8 KiB