Package: notame Version: 1.0.0 Command: /home/biocbuild/bbs-3.22-bioc/R/bin/R CMD INSTALL notame StartedAt: 2025-11-04 15:22:56 -0500 (Tue, 04 Nov 2025) EndedAt: 2025-11-04 15:23:20 -0500 (Tue, 04 Nov 2025) EllapsedTime: 24.2 seconds RetCode: 0 Status: OK