Package: notame Version: 1.0.0 Command: /home/biocbuild/bbs-3.22-bioc/R/bin/R CMD build --keep-empty-dirs --no-resave-data --md5 notame StartedAt: 2025-11-04 19:04:22 -0500 (Tue, 04 Nov 2025) EndedAt: 2025-11-04 19:07:30 -0500 (Tue, 04 Nov 2025) EllapsedTime: 188.2 seconds RetCode: 0 Status: OK PackageFile: notame_1.0.0.tar.gz PackageFileSize: 869.4 KiB