Package: normalize450K Version: 1.34.0 Command: /home/biocbuild/R/R/bin/R CMD build --keep-empty-dirs --no-resave-data normalize450K StartedAt: 2025-01-31 01:24:04 -0000 (Fri, 31 Jan 2025) EndedAt: 2025-01-31 01:24:30 -0000 (Fri, 31 Jan 2025) EllapsedTime: 26.0 seconds RetCode: 0 Status: OK PackageFile: normalize450K_1.34.0.tar.gz PackageFileSize: 3.132 MiB