Package: nondetects Version: 2.38.1 Command: /home/biocbuild/bbs-3.21-bioc/R/bin/R CMD build --keep-empty-dirs --no-resave-data nondetects StartedAt: 2025-09-28 19:05:10 -0400 (Sun, 28 Sep 2025) EndedAt: 2025-09-28 19:08:26 -0400 (Sun, 28 Sep 2025) EllapsedTime: 196.3 seconds RetCode: 0 Status: OK PackageFile: nondetects_2.38.1.tar.gz PackageFileSize: 130.3 KiB