############################################################################## ############################################################################## ### ### Running command: ### ### /Library/Frameworks/R.framework/Resources/bin/R CMD INSTALL nondetects ### ############################################################################## ############################################################################## * installing to library ‘/Library/Frameworks/R.framework/Versions/4.5-x86_64/Resources/library’ * installing *source* package ‘nondetects’ ... ** this is package ‘nondetects’ version ‘2.38.0’ ** using staged installation ** R ** data ERROR: invalid value of LazyData field in DESCRIPTION * removing ‘/Library/Frameworks/R.framework/Versions/4.5-x86_64/Resources/library/nondetects’