Package: nondetects Version: 2.38.0 Command: /Library/Frameworks/R.framework/Resources/bin/R CMD INSTALL nondetects StartedAt: 2025-04-21 15:31:50 -0400 (Mon, 21 Apr 2025) EndedAt: 2025-04-21 15:31:51 -0400 (Mon, 21 Apr 2025) EllapsedTime: 1.0 seconds RetCode: 1 Status: ERROR