Package: nondetects Version: 2.38.0 Maintainer: Valeriia Sherina MaintainerEmail: valery.sherina at gmail.com git_url: https://git.bioconductor.org/packages/nondetects git_branch: RELEASE_3_21 git_last_commit: cc2104d git_last_commit_date: 2025-04-15 10:30:00 -0400 (Tue, 15 Apr 2025)